BEGIN:VCALENDAR
VERSION:2.0
PRODID:ITL custom (Railo)
BEGIN:VEVENT
DTSTAMP:20260423T020000Z
DTSTART:20260423T030000Z
DTEND:20260423T040000Z
UID:4FC28B7093B135C21C7183AC07E928A6@itl.sydney.edu
DESCRIPTION:This 1-hour workshop provides course and program directors and coordinators with the tools to develop or revise Course Learning Outcomes (CLOs) in line with AQF levels\, TEQSA expectations\, and the University’s assessment reform.\n
LOCATION: \n Zoom\n
SUMMARY:Writing Course Learning Outcomes that strengthen quality\, clarity and integrity
STATUS:CONFIRMED
URL:http://sydney.edu.au/itl/events/Writing%20Course%20Learning%20Outcomes/3926/
SEQUENCE:0
CLASS:PUBLIC
PRIORITY:5
END:VEVENT
END:VCALENDAR