BEGIN:VCALENDAR
VERSION:2.0
PRODID:ITL custom (Railo)
BEGIN:VEVENT
DTSTAMP:20260419T020000Z
DTSTART:20241030T233000Z
DTEND:20241031T010000Z
UID:B87470782489389F344C4FA4CEB5260C@itl.sydney.edu
DESCRIPTION:Join us for a 90 minute workshop which will reviewing and embedding your rubrics in Canvas so that you can take advantage of the efficiencies of SpeedGrader. We will look at the range of Canvas Rubric features for criteria weighting\, setting up grade boundaries\, providing feedback to students and how this translates to your Markbook. Introducing an AI Cogniti rubric assistant!\n
LOCATION:Online - via Zoom\n
SUMMARY:Rubrics and Canvas (with Cogniti Assistant)
STATUS:CONFIRMED
URL:http://sydney.edu.au/itl/events/Rubrics%20and%20Canvas%20%28with%20Cogniti%20Assistant%29/3527/
SEQUENCE:0
CLASS:PUBLIC
PRIORITY:5
END:VEVENT
END:VCALENDAR