BEGIN:VCALENDAR
VERSION:2.0
PRODID:ITL custom (Railo)
BEGIN:VEVENT
DTSTAMP:20260423T020000Z
DTSTART:20260721T000000Z
DTEND:20260721T013000Z
UID:D90E5B6628B4291225CBA0BDC643C295@itl.sydney.edu
DESCRIPTION:The orientation is a 1.5-hour interactive workshop aimed at introducing you to recording\, editing and publishing videos in the DIY Recording Booth.\n
LOCATION:face to face\n
SUMMARY:DIY Recording Booth Face to Face Orientation Session 21 July
STATUS:CONFIRMED
URL:http://sydney.edu.au/itl/events/DIY%2DRecording%2DBooth%2DFamiliarisation%2DSession/3922/
SEQUENCE:0
CLASS:PUBLIC
PRIORITY:5
END:VEVENT
END:VCALENDAR