BEGIN:VCALENDAR
VERSION:2.0
PRODID:ITL custom (Railo)
BEGIN:VEVENT
DTSTAMP:20260423T020000Z
DTSTART:20260609T000000Z
DTEND:20260609T013000Z
UID:9B8F0779BADBAD3B46D6718EE95A68FF@itl.sydney.edu
DESCRIPTION:The orientation is a 1.5-hour interactive workshop aimed at introducing you to recording\, editing and publishing videos in the DIY Recording Booth.\n
LOCATION:face to face\n
SUMMARY:DIY Recording Booth Face to Face Orientation Session 09 June
STATUS:CONFIRMED
URL:http://sydney.edu.au/itl/events/DIY%2DRecording%2DBooth%2DFamiliarisation%2DSession/3921/
SEQUENCE:0
CLASS:PUBLIC
PRIORITY:5
END:VEVENT
END:VCALENDAR